BEGIN:VCALENDAR
VERSION:2.0
PRODID:-//Lambrick Park Secondary School - ECPv6.2.8.1//NONSGML v1.0//EN
CALSCALE:GREGORIAN
METHOD:PUBLISH
X-ORIGINAL-URL:https://lambrickpark.sd61.bc.ca
X-WR-CALDESC:Events for Lambrick Park Secondary School
REFRESH-INTERVAL;VALUE=DURATION:PT1H
X-Robots-Tag:noindex
X-PUBLISHED-TTL:PT1H
BEGIN:VTIMEZONE
TZID:America/Vancouver
BEGIN:DAYLIGHT
TZOFFSETFROM:-0800
TZOFFSETTO:-0700
TZNAME:PDT
DTSTART:20180311T100000
END:DAYLIGHT
BEGIN:STANDARD
TZOFFSETFROM:-0700
TZOFFSETTO:-0800
TZNAME:PST
DTSTART:20181104T090000
END:STANDARD
END:VTIMEZONE
BEGIN:VEVENT
DTSTART;TZID=America/Vancouver:20180118T183000
DTEND;TZID=America/Vancouver:20180118T193000
DTSTAMP:20260420T213507
CREATED:20180110T223433Z
LAST-MODIFIED:20180110T223947Z
UID:6369-1516300200-1516303800@lambrickpark.sd61.bc.ca
SUMMARY:GRADE 8 and ACADEMY INFORMATION Night
DESCRIPTION:
URL:https://lambrickpark.sd61.bc.ca/calendar-event/grade-8-academy-information-night/
END:VEVENT
BEGIN:VEVENT
DTSTART;TZID=America/Vancouver:20180119T080000
DTEND;TZID=America/Vancouver:20180119T170000
DTSTAMP:20260420T213507
CREATED:20171026T215531Z
LAST-MODIFIED:20171026T215534Z
UID:6032-1516348800-1516381200@lambrickpark.sd61.bc.ca
SUMMARY:Term Ends
DESCRIPTION:
URL:https://lambrickpark.sd61.bc.ca/calendar-event/term-ends/
END:VEVENT
BEGIN:VEVENT
DTSTART;TZID=America/Vancouver:20180119T080000
DTEND;TZID=America/Vancouver:20180120T170000
DTSTAMP:20260420T213507
CREATED:20171206T180028Z
LAST-MODIFIED:20171206T180032Z
UID:6255-1516348800-1516467600@lambrickpark.sd61.bc.ca
SUMMARY:SENIOR GIRLS BASKETBALL - POLICE TOURNAMENT @SMU
DESCRIPTION:SENIOR GIRLS BASKETBALL – POLICE TOURNAMENT @SMU
URL:https://lambrickpark.sd61.bc.ca/calendar-event/senior-girls-basketball-police-tournament-smu/
END:VEVENT
BEGIN:VEVENT
DTSTART;TZID=America/Vancouver:20180119T090000
DTEND;TZID=America/Vancouver:20180119T100000
DTSTAMP:20260420T213507
CREATED:20171206T173557Z
LAST-MODIFIED:20171206T173620Z
UID:6234-1516352400-1516356000@lambrickpark.sd61.bc.ca
SUMMARY:Missed Grade 9 Immunizations
DESCRIPTION:Missed Grade 9 Immunizations
URL:https://lambrickpark.sd61.bc.ca/calendar-event/missed-grade-9-immunizations/
END:VEVENT
END:VCALENDAR