BEGIN:VCALENDAR
VERSION:2.0
PRODID:-//Lambrick Park Secondary School - ECPv6.2.8.1//NONSGML v1.0//EN
CALSCALE:GREGORIAN
METHOD:PUBLISH
X-ORIGINAL-URL:https://lambrickpark.sd61.bc.ca
X-WR-CALDESC:Events for Lambrick Park Secondary School
REFRESH-INTERVAL;VALUE=DURATION:PT1H
X-Robots-Tag:noindex
X-PUBLISHED-TTL:PT1H
BEGIN:VTIMEZONE
TZID:America/Vancouver
BEGIN:DAYLIGHT
TZOFFSETFROM:-0800
TZOFFSETTO:-0700
TZNAME:PDT
DTSTART:20190310T100000
END:DAYLIGHT
BEGIN:STANDARD
TZOFFSETFROM:-0700
TZOFFSETTO:-0800
TZNAME:PST
DTSTART:20191103T090000
END:STANDARD
END:VTIMEZONE
BEGIN:VEVENT
DTSTART;TZID=America/Vancouver:20190603T085000
DTEND;TZID=America/Vancouver:20190607T151500
DTSTAMP:20260423T124855
CREATED:20180918T195936Z
LAST-MODIFIED:20180918T195941Z
UID:7101-1559551800-1559920500@lambrickpark.sd61.bc.ca
SUMMARY:WEEK 1
DESCRIPTION:2018-2019 LPSS Timetable Week 1
URL:https://lambrickpark.sd61.bc.ca/calendar-event/week-1-24/
END:VEVENT
BEGIN:VEVENT
DTSTART;TZID=America/Vancouver:20190607T180000
DTEND;TZID=America/Vancouver:20190607T210000
DTSTAMP:20260423T124855
CREATED:20180530T174054Z
LAST-MODIFIED:20180530T174056Z
UID:6921-1559930400-1559941200@lambrickpark.sd61.bc.ca
SUMMARY:GRAD 2019 UVIC Ceremony
DESCRIPTION:
URL:https://lambrickpark.sd61.bc.ca/calendar-event/grad-2019-uvic-ceremony/
END:VEVENT
END:VCALENDAR