BEGIN:VCALENDAR
VERSION:2.0
PRODID:-//Lambrick Park Secondary School - ECPv6.2.8.1//NONSGML v1.0//EN
CALSCALE:GREGORIAN
METHOD:PUBLISH
X-ORIGINAL-URL:https://lambrickpark.sd61.bc.ca
X-WR-CALDESC:Events for Lambrick Park Secondary School
REFRESH-INTERVAL;VALUE=DURATION:PT1H
X-Robots-Tag:noindex
X-PUBLISHED-TTL:PT1H
BEGIN:VTIMEZONE
TZID:America/Vancouver
BEGIN:DAYLIGHT
TZOFFSETFROM:-0800
TZOFFSETTO:-0700
TZNAME:PDT
DTSTART:20190310T100000
END:DAYLIGHT
BEGIN:STANDARD
TZOFFSETFROM:-0700
TZOFFSETTO:-0800
TZNAME:PST
DTSTART:20191103T090000
END:STANDARD
END:VTIMEZONE
BEGIN:VEVENT
DTSTART;TZID=America/Vancouver:20190610T085000
DTEND;TZID=America/Vancouver:20190614T151500
DTSTAMP:20260423T142726
CREATED:20180918T195832Z
LAST-MODIFIED:20180918T195848Z
UID:7099-1560156600-1560525300@lambrickpark.sd61.bc.ca
SUMMARY:WEEK 1
DESCRIPTION:2018-2019 LPSS Timetable Week 1
URL:https://lambrickpark.sd61.bc.ca/calendar-event/week-1-23/
END:VEVENT
BEGIN:VEVENT
DTSTART;TZID=America/Vancouver:20190610T173000
DTEND;TZID=America/Vancouver:20190610T193000
DTSTAMP:20260423T142726
CREATED:20190528T184453Z
LAST-MODIFIED:20190528T184456Z
UID:7707-1560187800-1560195000@lambrickpark.sd61.bc.ca
SUMMARY:All Sports & Academy Athletic Awards
DESCRIPTION:
URL:https://lambrickpark.sd61.bc.ca/calendar-event/all-sports-academy-athletic-awards/
END:VEVENT
END:VCALENDAR