BEGIN:VCALENDAR
VERSION:2.0
PRODID:-//Lambrick Park Secondary School - ECPv6.2.8.1//NONSGML v1.0//EN
CALSCALE:GREGORIAN
METHOD:PUBLISH
X-ORIGINAL-URL:https://lambrickpark.sd61.bc.ca
X-WR-CALDESC:Events for Lambrick Park Secondary School
REFRESH-INTERVAL;VALUE=DURATION:PT1H
X-Robots-Tag:noindex
X-PUBLISHED-TTL:PT1H
BEGIN:VTIMEZONE
TZID:America/Vancouver
BEGIN:DAYLIGHT
TZOFFSETFROM:-0800
TZOFFSETTO:-0700
TZNAME:PDT
DTSTART:20190310T100000
END:DAYLIGHT
BEGIN:STANDARD
TZOFFSETFROM:-0700
TZOFFSETTO:-0800
TZNAME:PST
DTSTART:20191103T090000
END:STANDARD
END:VTIMEZONE
BEGIN:VEVENT
DTSTART;TZID=America/Vancouver:20190624T085000
DTEND;TZID=America/Vancouver:20190627T151500
DTSTAMP:20260423T142726
CREATED:20180918T200110Z
LAST-MODIFIED:20180918T200113Z
UID:7105-1561366200-1561648500@lambrickpark.sd61.bc.ca
SUMMARY:WEEK 1
DESCRIPTION:2018-2019 LPSS Timetable Week 17
URL:https://lambrickpark.sd61.bc.ca/calendar-event/week-1-26/
END:VEVENT
BEGIN:VEVENT
DTSTART;TZID=America/Vancouver:20190627T080000
DTEND;TZID=America/Vancouver:20190627T170000
DTSTAMP:20260423T142726
CREATED:20190528T185412Z
LAST-MODIFIED:20190528T185416Z
UID:7720-1561622400-1561654800@lambrickpark.sd61.bc.ca
SUMMARY:Last Day of School!
DESCRIPTION:
URL:https://lambrickpark.sd61.bc.ca/calendar-event/last-day-of-school-4/
END:VEVENT
BEGIN:VEVENT
DTSTART;TZID=America/Vancouver:20190627T100000
DTEND;TZID=America/Vancouver:20190627T233000
DTSTAMP:20260423T142726
CREATED:20190528T185338Z
LAST-MODIFIED:20190626T221333Z
UID:7718-1561629600-1561678200@lambrickpark.sd61.bc.ca
SUMMARY:Pick up Report Cards 10:00 am - 11:30 am
DESCRIPTION:
URL:https://lambrickpark.sd61.bc.ca/calendar-event/pick-up-report-cards-1000-am-1100-am/
END:VEVENT
BEGIN:VEVENT
DTSTART;TZID=America/Vancouver:20190628T080000
DTEND;TZID=America/Vancouver:20190628T130000
DTSTAMP:20260423T142726
CREATED:20180424T183225Z
LAST-MODIFIED:20190626T220044Z
UID:6727-1561708800-1561726800@lambrickpark.sd61.bc.ca
SUMMARY:Administrative Day and School Closing
DESCRIPTION:
URL:https://lambrickpark.sd61.bc.ca/calendar-event/administrative-day-and-school-closing/
END:VEVENT
END:VCALENDAR